BEGIN:VCALENDAR
VERSION:2.0
PRODID:-//De natura rerum - ECPv6.15.20//NONSGML v1.0//EN
CALSCALE:GREGORIAN
METHOD:PUBLISH
X-WR-CALNAME:De natura rerum
X-ORIGINAL-URL:https://denaturarerum.fr
X-WR-CALDESC:Évènements pour De natura rerum
REFRESH-INTERVAL;VALUE=DURATION:PT1H
X-Robots-Tag:noindex
X-PUBLISHED-TTL:PT1H
BEGIN:VTIMEZONE
TZID:Europe/Paris
BEGIN:DAYLIGHT
TZOFFSETFROM:+0100
TZOFFSETTO:+0200
TZNAME:CEST
DTSTART:20230326T010000
END:DAYLIGHT
BEGIN:STANDARD
TZOFFSETFROM:+0200
TZOFFSETTO:+0100
TZNAME:CET
DTSTART:20231029T010000
END:STANDARD
BEGIN:DAYLIGHT
TZOFFSETFROM:+0100
TZOFFSETTO:+0200
TZNAME:CEST
DTSTART:20240331T010000
END:DAYLIGHT
BEGIN:STANDARD
TZOFFSETFROM:+0200
TZOFFSETTO:+0100
TZNAME:CET
DTSTART:20241027T010000
END:STANDARD
BEGIN:DAYLIGHT
TZOFFSETFROM:+0100
TZOFFSETTO:+0200
TZNAME:CEST
DTSTART:20250330T010000
END:DAYLIGHT
BEGIN:STANDARD
TZOFFSETFROM:+0200
TZOFFSETTO:+0100
TZNAME:CET
DTSTART:20251026T010000
END:STANDARD
END:VTIMEZONE
BEGIN:VEVENT
DTSTART;TZID=Europe/Paris:20240406T180000
DTEND;TZID=Europe/Paris:20240406T200000
DTSTAMP:20260425T190043
CREATED:20240215T101154Z
LAST-MODIFIED:20240215T101732Z
UID:4562-1712426400-1712433600@denaturarerum.fr
SUMMARY:Sels d'hier\, sels d'aujourd'hui. Rencontre
DESCRIPTION:Autour de l’exposition Sels d’hier et d’aujourd’hui (15 février – 18 avril 2024)\, rencontre avec les trois directrices de l’ouvrage Sels d’hier\, sels d’aujourd’hui. Mots et images (PU Septentrion\, février 2024) : Christine Hoët-van Cauwenberghe\, Séverine Clément-Tarantino & Ariane Carmignac. \n\n\n\nSels d’hier\, sels d’aujourd’hui. Mots & images\n\n\n\nLe sel est un minéral indispensable à l’existence humaine\, voire à la vie tout court. Il est aussi un ingrédient indispensable de la création artistique\, verbale et figurée. Des recueils d’épigrammes de l’Antiquité à la chanson contemporaine\, le sel est là\, entre rire et larmes. Que dit-il de notre monde ou de nous aujourd’hui ? ou que permet-il d’exprimer à ce sujet ? Cet ouvrage offre des éléments de réponse en faisant dialoguer des œuvres d’artistes contemporaines – Ariane Carmignac\, Marie Cosnay\, Ilanit Illouz – et les « éclats de sel » écrits par des enseignantes-chercheuses et des étudiantes guidé.e.s par Marie Cosnay.Ce livre prend place au nombre des travaux de l’atelier interdisciplinaire sur la culture du sel copiloté par Christine Hoët-van Cauwenberghe\, Arnaud Gauthier et Armelle Masse. Il est le fruit d’un programme développé spécifiquement pendant un an sur les « mots du sel ». \n\n\n\nPresses universitaires du Septentrion\, « Esthétique sciences des arts »\, février 2024\, 14€ \n\n\n\nPour en savoir plus et/ou commander. \n\n\n\n\n\n\n\nL’exposition\n\n\n\nExposition de pages de l’ouvrage\, sur les photographies d’Ariane Carmignac\, photographe et historienne de la photographie arlésienne\, maître de conférence en arts plastiques à l’université de Montpellier.  \n\n\n\nExposition du 15 février au 18 avril 2024. \n\n\n\nPour en savoir plus.
URL:https://denaturarerum.fr/event/sels-dhier-sels-daujourdhui-rencontre/
LOCATION:De natura rerum\, 50\, rue du Refuge\, Arles\, Provence\, 13200\, France
CATEGORIES:Rencontres,Vernissage
ATTACH;FMTTYPE=image/jpeg:https://denaturarerum.fr/wp-content/uploads/2024/02/DNR-sels-expo-2-scaled.jpg
ORGANIZER;CN="De natura rerum":MAILTO:contact@denaturarerum.fr
END:VEVENT
END:VCALENDAR